BEGIN:VCALENDAR
VERSION:2.0
PRODID:-//Kilkenny LEADER Partnership - ECPv4.2//NONSGML v1.0//EN
CALSCALE:GREGORIAN
METHOD:PUBLISH
X-WR-CALNAME:Kilkenny LEADER Partnership
X-ORIGINAL-URL:http://www.cklp.ie
X-WR-CALDESC:Events for Kilkenny LEADER Partnership
BEGIN:VEVENT
DTSTART;TZID=Europe/Dublin:20160129T140000
DTEND;TZID=Europe/Dublin:20160129T160000
DTSTAMP:20171103T110932
CREATED:20160128T125831
LAST-MODIFIED:20160128T125858
UID:3685-1454076000-1454083200@www.cklp.ie
SUMMARY:KLP End of Rural Development Programme Event
DESCRIPTION:
URL:http://www.cklp.ie/event/kilkenny-end-of-programme-event/
CATEGORIES:KLP Event
ATTACH;FMTTYPE=image/png:http://www.cklp.ie/wp-content/uploads/invite.png
END:VEVENT
END:VCALENDAR