BEGIN:VCALENDAR
VERSION:2.0
PRODID:-//Kilkenny LEADER Partnership - ECPv4.2//NONSGML v1.0//EN
CALSCALE:GREGORIAN
METHOD:PUBLISH
X-WR-CALNAME:Kilkenny LEADER Partnership
X-ORIGINAL-URL:http://www.cklp.ie
X-WR-CALDESC:Events for Kilkenny LEADER Partnership
BEGIN:VEVENT
DTSTART;TZID=Europe/Dublin:20150818T190000
DTEND;TZID=Europe/Dublin:20151008T210000
DTSTAMP:20171103T105400
CREATED:20150430T151526
LAST-MODIFIED:20150430T154308
UID:3395-1439924400-1444338000@www.cklp.ie
SUMMARY:Digital Photography Course
DESCRIPTION:FETAC Level 3.  8 week Course.
URL:http://www.cklp.ie/event/digital-photography-course/
LOCATION:Goresbridge\, Kilkenny\, Ireland
END:VEVENT
END:VCALENDAR