BEGIN:VCALENDAR
VERSION:2.0
PRODID:-//Kilkenny LEADER Partnership - ECPv4.2//NONSGML v1.0//EN
CALSCALE:GREGORIAN
METHOD:PUBLISH
X-WR-CALNAME:Kilkenny LEADER Partnership
X-ORIGINAL-URL:http://www.cklp.ie
X-WR-CALDESC:Events for Kilkenny LEADER Partnership
BEGIN:VEVENT
DTSTART;TZID=Europe/Dublin:20150614T140000
DTEND;TZID=Europe/Dublin:20150614T160000
DTSTAMP:20171103T120109
CREATED:20150430T152921
LAST-MODIFIED:20150430T152921
UID:3407-1434290400-1434297600@www.cklp.ie
SUMMARY:Kilkenny CICLOVIA Street Festival
DESCRIPTION:June 14 & June 21 High Street will be closed from 2pm to 4pm to facilitate a street carnival for all the family. Cycle\, walk\, skate or run and take part in these special days...Try out Street Basketball\, Samba Soccer\, Bling your Bike\, and Mountain Biking Demonstration and exercise classes on High Street!\n\nSunday 14th & 21st June 2015\nHigh Street\, Kilkenny City\n2.00pm – 4.00pm
URL:http://www.cklp.ie/event/kilkenny-ciclovia-street-festival/
LOCATION:Kilkenny City\, Ireland
ORGANIZER;CN="Kilkenny%20Recreation%20and%20Sports%20Partnership":MAILTO: info@krsp.ie
END:VEVENT
END:VCALENDAR